Package: satuRn Version: 1.19.0 Command: /Library/Frameworks/R.framework/Resources/bin/R CMD build --keep-empty-dirs --no-resave-data satuRn StartedAt: 2025-11-21 17:30:46 -0500 (Fri, 21 Nov 2025) EndedAt: 2025-11-21 17:31:20 -0500 (Fri, 21 Nov 2025) EllapsedTime: 33.4 seconds RetCode: 0 Status: OK PackageFile: satuRn_1.19.0.tar.gz PackageFileSize: 3.695 MiB