Package: satuRn Version: 1.19.0 Command: rm -rf satuRn.buildbin-libdir && mkdir satuRn.buildbin-libdir && /Users/biocbuild/BBS/utils/build-universal.sh satuRn_1.19.0.tar.gz /Library/Frameworks/R.framework/Resources/bin/R satuRn.buildbin-libdir StartedAt: 2025-11-21 23:49:28 -0500 (Fri, 21 Nov 2025) EndedAt: 2025-11-21 23:49:41 -0500 (Fri, 21 Nov 2025) EllapsedTime: 13.3 seconds RetCode: 0 Status: OK PackageFile: satuRn_1.19.0.tgz PackageFileSize: 3.748 MiB