Package: saseR Version: 1.7.0 Command: /home/biocbuild/bbs-3.23-bioc/R/bin/R CMD INSTALL saseR StartedAt: 2025-11-20 15:49:25 -0500 (Thu, 20 Nov 2025) EndedAt: 2025-11-20 15:50:23 -0500 (Thu, 20 Nov 2025) EllapsedTime: 58.1 seconds RetCode: 0 Status: OK