Package: saseR Version: 1.7.0 Command: /home/biocbuild/bbs-3.23-bioc/R/bin/R CMD build --keep-empty-dirs --no-resave-data saseR StartedAt: 2025-11-20 19:46:59 -0500 (Thu, 20 Nov 2025) EndedAt: 2025-11-20 19:50:56 -0500 (Thu, 20 Nov 2025) EllapsedTime: 237.3 seconds RetCode: 0 Status: OK PackageFile: saseR_1.7.0.tar.gz PackageFileSize: 1.207 MiB