Package: saseR Version: 1.7.0 Command: /Library/Frameworks/R.framework/Resources/bin/R CMD build --keep-empty-dirs --no-resave-data saseR StartedAt: 2025-11-21 18:31:03 -0500 (Fri, 21 Nov 2025) EndedAt: 2025-11-21 18:35:42 -0500 (Fri, 21 Nov 2025) EllapsedTime: 279.6 seconds RetCode: 0 Status: OK PackageFile: saseR_1.7.0.tar.gz PackageFileSize: 1.207 MiB