Package: saseR Version: 1.5.1 Command: /Library/Frameworks/R.framework/Resources/bin/R CMD INSTALL saseR StartedAt: 2025-10-10 15:28:19 -0400 (Fri, 10 Oct 2025) EndedAt: 2025-10-10 15:28:42 -0400 (Fri, 10 Oct 2025) EllapsedTime: 22.7 seconds RetCode: 0 Status: OK