Package: saseR Version: 1.5.1 Command: /Library/Frameworks/R.framework/Resources/bin/R CMD build --keep-empty-dirs --no-resave-data saseR StartedAt: 2025-10-10 17:34:56 -0400 (Fri, 10 Oct 2025) EndedAt: 2025-10-10 17:36:50 -0400 (Fri, 10 Oct 2025) EllapsedTime: 114.3 seconds RetCode: 0 Status: OK PackageFile: saseR_1.5.1.tar.gz PackageFileSize: 1.207 MiB