Package: sarks Version: 1.23.0 Command: /home/biocbuild/bbs-3.23-bioc/R/bin/R CMD INSTALL sarks StartedAt: 2025-11-14 15:16:38 -0500 (Fri, 14 Nov 2025) EndedAt: 2025-11-14 15:16:48 -0500 (Fri, 14 Nov 2025) EllapsedTime: 9.8 seconds RetCode: 0 Status: OK