Package: sarks Version: 1.23.0 Command: /home/biocbuild/bbs-3.23-bioc/R/bin/R CMD build --keep-empty-dirs --no-resave-data sarks StartedAt: 2025-11-14 19:46:51 -0500 (Fri, 14 Nov 2025) EndedAt: 2025-11-14 19:47:13 -0500 (Fri, 14 Nov 2025) EllapsedTime: 22.0 seconds RetCode: 0 Status: OK PackageFile: sarks_1.23.0.tar.gz PackageFileSize: 745.2 KiB