Package: sangerseqR Version: 1.47.0 Command: /home/biocbuild/bbs-3.23-bioc/R/bin/R CMD INSTALL sangerseqR StartedAt: 2025-11-04 15:49:10 -0500 (Tue, 04 Nov 2025) EndedAt: 2025-11-04 15:49:23 -0500 (Tue, 04 Nov 2025) EllapsedTime: 13.5 seconds RetCode: 0 Status: OK