Package: sangerseqR Version: 1.47.0 Command: /home/biocbuild/bbs-3.23-bioc/R/bin/R CMD build --keep-empty-dirs --no-resave-data sangerseqR StartedAt: 2025-11-04 19:40:45 -0500 (Tue, 04 Nov 2025) EndedAt: 2025-11-04 19:41:18 -0500 (Tue, 04 Nov 2025) EllapsedTime: 33.0 seconds RetCode: 0 Status: OK PackageFile: sangerseqR_1.47.0.tar.gz PackageFileSize: 2.847 MiB