Package: sangerseqR Version: 1.45.0 Command: /Library/Frameworks/R.framework/Resources/bin/R CMD INSTALL sangerseqR StartedAt: 2025-10-10 15:46:47 -0400 (Fri, 10 Oct 2025) EndedAt: 2025-10-10 15:47:06 -0400 (Fri, 10 Oct 2025) EllapsedTime: 19.2 seconds RetCode: 0 Status: OK