Package: sangerseqR Version: 1.45.0 Command: /Library/Frameworks/R.framework/Resources/bin/R CMD build --keep-empty-dirs --no-resave-data sangerseqR StartedAt: 2025-10-10 19:01:04 -0400 (Fri, 10 Oct 2025) EndedAt: 2025-10-10 19:01:47 -0400 (Fri, 10 Oct 2025) EllapsedTime: 42.4 seconds RetCode: 0 Status: OK PackageFile: sangerseqR_1.45.0.tar.gz PackageFileSize: 2.934 MiB