Package: sangerseqR Version: 1.47.0 Maintainer: Jonathon Hill MaintainerEmail: jhill at byu.edu git_url: https://git.bioconductor.org/packages/sangerseqR git_branch: devel git_last_commit: fda56d9 git_last_commit_date: 2025-10-29 10:18:08 -0400 (Wed, 29 Oct 2025)