Package: sangeranalyseR Version: 1.19.0 Command: /home/biocbuild/R/R/bin/R CMD INSTALL sangeranalyseR StartedAt: 2025-10-09 21:59:53 -0000 (Thu, 09 Oct 2025) EndedAt: 2025-10-09 22:00:24 -0000 (Thu, 09 Oct 2025) EllapsedTime: 31.1 seconds RetCode: 0 Status: OK