Package: sangeranalyseR Version: 1.19.0 Command: /home/biocbuild/R/R/bin/R CMD build --keep-empty-dirs --no-resave-data sangeranalyseR StartedAt: 2025-10-10 03:45:28 -0000 (Fri, 10 Oct 2025) EndedAt: 2025-10-10 03:46:31 -0000 (Fri, 10 Oct 2025) EllapsedTime: 63.1 seconds RetCode: 0 Status: OK PackageFile: sangeranalyseR_1.19.0.tar.gz PackageFileSize: 38.22 MiB