Package: sangeranalyseR Version: 1.21.0 Command: /home/biocbuild/bbs-3.23-bioc/R/bin/R CMD build --keep-empty-dirs --no-resave-data sangeranalyseR StartedAt: 2025-11-06 19:40:01 -0500 (Thu, 06 Nov 2025) EndedAt: 2025-11-06 19:40:07 -0500 (Thu, 06 Nov 2025) EllapsedTime: 6.0 seconds RetCode: 1 Status: ERROR PackageFile: None PackageFileSize: NA