############################################################################## ############################################################################## ### ### Running command: ### ### /home/biocbuild/bbs-3.23-bioc/R/bin/R CMD build --keep-empty-dirs --no-resave-data sangeranalyseR ### ############################################################################## ############################################################################## * checking for file ‘sangeranalyseR/DESCRIPTION’ ... OK * preparing ‘sangeranalyseR’: * checking DESCRIPTION meta-information ... OK * installing the package (it is needed to build vignettes) ----------------------------------- * installing *source* package ‘sangeranalyseR’ ... ** this is package ‘sangeranalyseR’ version ‘1.21.0’ ** using staged installation ** R ** data ** inst ** byte-compile and prepare package for lazy loading Error: object ‘TreeLine’ is not exported by 'namespace:DECIPHER' Execution halted ERROR: lazy loading failed for package ‘sangeranalyseR’ * removing ‘/tmp/RtmpiLCjem/Rinst1b71f9436af19a/sangeranalyseR’ ----------------------------------- ERROR: package installation failed