Package: sangeranalyseR Version: 1.19.0 Command: /Library/Frameworks/R.framework/Resources/bin/R CMD INSTALL sangeranalyseR StartedAt: 2025-10-03 15:44:45 -0400 (Fri, 03 Oct 2025) EndedAt: 2025-10-03 15:45:20 -0400 (Fri, 03 Oct 2025) EllapsedTime: 34.6 seconds RetCode: 0 Status: OK