############################################################################## ############################################################################## ### ### Running command: ### ### /Library/Frameworks/R.framework/Resources/bin/R CMD INSTALL sangeranalyseR ### ############################################################################## ############################################################################## * installing to library ‘/Library/Frameworks/R.framework/Versions/4.5-x86_64/Resources/library’ * installing *source* package ‘sangeranalyseR’ ... ** this is package ‘sangeranalyseR’ version ‘1.19.0’ ** using staged installation ** R ** data ** inst ** byte-compile and prepare package for lazy loading Error: object ‘TreeLine’ is not exported by 'namespace:DECIPHER' Execution halted ERROR: lazy loading failed for package ‘sangeranalyseR’ * removing ‘/Library/Frameworks/R.framework/Versions/4.5-x86_64/Resources/library/sangeranalyseR’ * restoring previous ‘/Library/Frameworks/R.framework/Versions/4.5-x86_64/Resources/library/sangeranalyseR’