Package: sangeranalyseR Version: 1.19.0 Command: /Library/Frameworks/R.framework/Resources/bin/R CMD build --keep-empty-dirs --no-resave-data sangeranalyseR StartedAt: 2025-10-05 18:47:16 -0400 (Sun, 05 Oct 2025) EndedAt: 2025-10-05 18:48:02 -0400 (Sun, 05 Oct 2025) EllapsedTime: 45.8 seconds RetCode: 0 Status: OK PackageFile: sangeranalyseR_1.19.0.tar.gz PackageFileSize: 38.16 MiB