Package: sampleClassifier Version: 1.33.0 Command: /home/biocbuild/R/R/bin/R CMD check --install=check:sampleClassifier.install-out.txt --library=/home/biocbuild/R/R/site-library --no-vignettes --timings sampleClassifier_1.33.0.tar.gz StartedAt: 2025-09-30 12:35:51 -0000 (Tue, 30 Sep 2025) EndedAt: 2025-09-30 12:42:59 -0000 (Tue, 30 Sep 2025) EllapsedTime: 428.0 seconds RetCode: 0 Status: OK CheckDir: sampleClassifier.Rcheck Warnings: 0