Package: sagenhaft Version: 1.79.0 Command: /home/biocbuild/bbs-3.22-bioc/R/bin/R CMD INSTALL sagenhaft StartedAt: 2025-10-17 15:01:46 -0400 (Fri, 17 Oct 2025) EndedAt: 2025-10-17 15:01:55 -0400 (Fri, 17 Oct 2025) EllapsedTime: 8.7 seconds RetCode: 0 Status: OK