Package: sagenhaft Version: 1.79.0 Command: /home/biocbuild/bbs-3.22-bioc/R/bin/R CMD build --keep-empty-dirs --no-resave-data --md5 sagenhaft StartedAt: 2025-10-17 19:44:10 -0400 (Fri, 17 Oct 2025) EndedAt: 2025-10-17 19:44:18 -0400 (Fri, 17 Oct 2025) EllapsedTime: 8.0 seconds RetCode: 0 Status: OK PackageFile: sagenhaft_1.79.0.tar.gz PackageFileSize: 2.584 MiB