Package: safe Version: 3.49.0 Command: /home/biocbuild/bbs-3.22-bioc/R/bin/R CMD check --install=check:safe.install-out.txt --library=/home/biocbuild/bbs-3.22-bioc/R/site-library --timings safe_3.49.0.tar.gz StartedAt: 2025-10-25 03:39:04 -0400 (Sat, 25 Oct 2025) EndedAt: 2025-10-25 03:43:58 -0400 (Sat, 25 Oct 2025) EllapsedTime: 293.3 seconds RetCode: 0 Status: OK CheckDir: safe.Rcheck Warnings: 0