Package: safe Version: 3.51.0 Command: /home/biocbuild/bbs-3.23-bioc/R/bin/R CMD INSTALL safe StartedAt: 2025-11-04 15:56:36 -0500 (Tue, 04 Nov 2025) EndedAt: 2025-11-04 15:56:51 -0500 (Tue, 04 Nov 2025) EllapsedTime: 14.5 seconds RetCode: 0 Status: OK