Package: safe Version: 3.51.0 Command: /home/biocbuild/bbs-3.23-bioc/R/bin/R CMD build --keep-empty-dirs --no-resave-data safe StartedAt: 2025-11-04 19:40:28 -0500 (Tue, 04 Nov 2025) EndedAt: 2025-11-04 19:44:10 -0500 (Tue, 04 Nov 2025) EllapsedTime: 222.4 seconds RetCode: 0 Status: OK PackageFile: safe_3.51.0.tar.gz PackageFileSize: 713.3 KiB