Package: sSeq Version: 1.47.0 Command: /home/biocbuild/bbs-3.22-bioc/R/bin/R CMD check --install=check:sSeq.install-out.txt --library=/home/biocbuild/bbs-3.22-bioc/R/site-library --timings sSeq_1.47.0.tar.gz StartedAt: 2025-10-11 04:59:32 -0400 (Sat, 11 Oct 2025) EndedAt: 2025-10-11 05:03:07 -0400 (Sat, 11 Oct 2025) EllapsedTime: 215.2 seconds RetCode: 0 Status: OK CheckDir: sSeq.Rcheck Warnings: 0