Package: sSeq Version: 1.49.0 Command: /home/biocbuild/bbs-3.23-bioc/R/bin/R CMD INSTALL sSeq StartedAt: 2025-11-20 15:03:55 -0500 (Thu, 20 Nov 2025) EndedAt: 2025-11-20 15:04:05 -0500 (Thu, 20 Nov 2025) EllapsedTime: 9.5 seconds RetCode: 0 Status: OK