Package: sSeq Version: 1.49.0 Command: /home/biocbuild/bbs-3.23-bioc/R/bin/R CMD check --install=check:sSeq.install-out.txt --library=/home/biocbuild/bbs-3.23-bioc/R/site-library --timings sSeq_1.49.0.tar.gz StartedAt: 2025-11-22 04:31:04 -0500 (Sat, 22 Nov 2025) EndedAt: 2025-11-22 04:34:39 -0500 (Sat, 22 Nov 2025) EllapsedTime: 215.3 seconds RetCode: 0 Status: OK CheckDir: sSeq.Rcheck Warnings: 0