Package: sSeq Version: 1.49.0 Command: /home/biocbuild/bbs-3.23-bioc/R/bin/R CMD build --keep-empty-dirs --no-resave-data sSeq StartedAt: 2025-11-20 20:22:05 -0500 (Thu, 20 Nov 2025) EndedAt: 2025-11-20 20:23:10 -0500 (Thu, 20 Nov 2025) EllapsedTime: 65.1 seconds RetCode: 0 Status: OK PackageFile: sSeq_1.49.0.tar.gz PackageFileSize: 4.201 MiB