Package: sSNAPPY Version: 1.15.0 Command: /home/biocbuild/bbs-3.23-bioc/R/bin/R CMD INSTALL sSNAPPY StartedAt: 2025-11-20 15:33:54 -0500 (Thu, 20 Nov 2025) EndedAt: 2025-11-20 15:34:27 -0500 (Thu, 20 Nov 2025) EllapsedTime: 32.8 seconds RetCode: 0 Status: OK