Package: sSNAPPY Version: 1.15.0 Command: /home/biocbuild/bbs-3.23-bioc/R/bin/R CMD build --keep-empty-dirs --no-resave-data sSNAPPY StartedAt: 2025-11-20 20:22:17 -0500 (Thu, 20 Nov 2025) EndedAt: 2025-11-20 20:30:50 -0500 (Thu, 20 Nov 2025) EllapsedTime: 512.8 seconds RetCode: 0 Status: OK PackageFile: sSNAPPY_1.15.0.tar.gz PackageFileSize: 4.021 MiB