Package: sSNAPPY Version: 1.13.0 Command: /Library/Frameworks/R.framework/Resources/bin/R CMD INSTALL sSNAPPY StartedAt: 2025-10-24 15:39:55 -0400 (Fri, 24 Oct 2025) EndedAt: 2025-10-24 15:40:40 -0400 (Fri, 24 Oct 2025) EllapsedTime: 44.2 seconds RetCode: 0 Status: OK