Package: sSNAPPY Version: 1.13.0 Command: /Library/Frameworks/R.framework/Resources/bin/R CMD INSTALL sSNAPPY StartedAt: 2025-10-03 15:18:42 -0400 (Fri, 03 Oct 2025) EndedAt: 2025-10-03 15:18:55 -0400 (Fri, 03 Oct 2025) EllapsedTime: 12.9 seconds RetCode: 0 Status: OK