Package: sSNAPPY Version: 1.13.0 Command: /Library/Frameworks/R.framework/Resources/bin/R CMD build --keep-empty-dirs --no-resave-data sSNAPPY StartedAt: 2025-10-03 17:51:19 -0400 (Fri, 03 Oct 2025) EndedAt: 2025-10-03 17:55:17 -0400 (Fri, 03 Oct 2025) EllapsedTime: 238.8 seconds RetCode: 0 Status: OK PackageFile: sSNAPPY_1.13.0.tar.gz PackageFileSize: 4.274 MiB