Package: sRACIPE Version: 2.3.0 Command: /home/biocbuild/bbs-3.23-bioc/R/bin/R CMD INSTALL sRACIPE StartedAt: 2025-11-20 15:16:49 -0500 (Thu, 20 Nov 2025) EndedAt: 2025-11-20 15:17:43 -0500 (Thu, 20 Nov 2025) EllapsedTime: 54.5 seconds RetCode: 0 Status: OK