Package: sRACIPE Version: 2.3.0 Command: /home/biocbuild/bbs-3.23-bioc/R/bin/R CMD build --keep-empty-dirs --no-resave-data sRACIPE StartedAt: 2025-11-20 20:21:30 -0500 (Thu, 20 Nov 2025) EndedAt: 2025-11-20 20:22:41 -0500 (Thu, 20 Nov 2025) EllapsedTime: 71.1 seconds RetCode: 0 Status: OK PackageFile: sRACIPE_2.3.0.tar.gz PackageFileSize: 1.996 MiB