Package: sRACIPE Version: 2.1.1 Command: /Library/Frameworks/R.framework/Resources/bin/R CMD build --keep-empty-dirs --no-resave-data sRACIPE StartedAt: 2025-10-17 19:39:12 -0400 (Fri, 17 Oct 2025) EndedAt: 2025-10-17 19:41:10 -0400 (Fri, 17 Oct 2025) EllapsedTime: 118.3 seconds RetCode: 0 Status: OK PackageFile: sRACIPE_2.1.1.tar.gz PackageFileSize: 1.916 MiB