Package: sRACIPE Version: 2.1.1 Command: /Library/Frameworks/R.framework/Resources/bin/R CMD INSTALL sRACIPE StartedAt: 2025-10-05 15:11:26 -0400 (Sun, 05 Oct 2025) EndedAt: 2025-10-05 15:11:44 -0400 (Sun, 05 Oct 2025) EllapsedTime: 19.0 seconds RetCode: 0 Status: OK