Package: sRACIPE Version: 2.1.1 Command: /Library/Frameworks/R.framework/Resources/bin/R CMD build --keep-empty-dirs --no-resave-data sRACIPE StartedAt: 2025-10-05 17:55:25 -0400 (Sun, 05 Oct 2025) EndedAt: 2025-10-05 17:55:53 -0400 (Sun, 05 Oct 2025) EllapsedTime: 28.4 seconds RetCode: 0 Status: OK PackageFile: sRACIPE_2.1.1.tar.gz PackageFileSize: 1.921 MiB