Package: sRACIPE Version: 2.1.1 Command: rm -rf sRACIPE.buildbin-libdir && mkdir sRACIPE.buildbin-libdir && /Users/biocbuild/BBS/utils/build-universal.sh sRACIPE_2.1.1.tar.gz /Library/Frameworks/R.framework/Resources/bin/R sRACIPE.buildbin-libdir StartedAt: 2025-10-06 23:02:18 -0400 (Mon, 06 Oct 2025) EndedAt: 2025-10-06 23:02:38 -0400 (Mon, 06 Oct 2025) EllapsedTime: 20.5 seconds RetCode: 0 Status: OK PackageFile: sRACIPE_2.1.1.tgz PackageFileSize: 1.024 MiB