Package: sRACIPE Version: 2.3.0 Maintainer: Mingyang Lu MaintainerEmail: m.lu at northeastern.edu git_url: https://git.bioconductor.org/packages/sRACIPE git_branch: devel git_last_commit: 0d22d7b git_last_commit_date: 2025-10-29 10:51:28 -0400 (Wed, 29 Oct 2025)