Package: runibic Version: 1.33.0 Command: /home/biocbuild/bbs-3.23-bioc/R/bin/R CMD INSTALL runibic StartedAt: 2025-11-20 15:36:47 -0500 (Thu, 20 Nov 2025) EndedAt: 2025-11-20 15:37:29 -0500 (Thu, 20 Nov 2025) EllapsedTime: 42.3 seconds RetCode: 0 Status: OK