Package: rtracklayer Version: 1.71.0 Command: /home/biocbuild/bbs-3.23-bioc/R/bin/R CMD INSTALL rtracklayer StartedAt: 2025-11-05 15:32:23 -0500 (Wed, 05 Nov 2025) EndedAt: 2025-11-05 15:33:12 -0500 (Wed, 05 Nov 2025) EllapsedTime: 49.0 seconds RetCode: 0 Status: OK