Package: rtracklayer Version: 1.71.0 Command: /home/biocbuild/bbs-3.23-bioc/R/bin/R CMD build --keep-empty-dirs --no-resave-data rtracklayer StartedAt: 2025-11-04 19:39:08 -0500 (Tue, 04 Nov 2025) EndedAt: 2025-11-04 19:40:28 -0500 (Tue, 04 Nov 2025) EllapsedTime: 79.1 seconds RetCode: 0 Status: OK PackageFile: rtracklayer_1.71.0.tar.gz PackageFileSize: 3.897 MiB