Package: rtracklayer Version: 1.69.1 Command: /Library/Frameworks/R.framework/Resources/bin/R CMD INSTALL rtracklayer StartedAt: 2025-10-12 15:26:06 -0400 (Sun, 12 Oct 2025) EndedAt: 2025-10-12 15:27:19 -0400 (Sun, 12 Oct 2025) EllapsedTime: 73.4 seconds RetCode: 0 Status: OK