Package: rtracklayer Version: 1.69.1 Command: rm -rf rtracklayer.buildbin-libdir && mkdir rtracklayer.buildbin-libdir && /Users/biocbuild/BBS/utils/build-universal.sh rtracklayer_1.69.1.tar.gz /Library/Frameworks/R.framework/Resources/bin/R rtracklayer.buildbin-libdir StartedAt: 2025-10-13 02:54:03 -0400 (Mon, 13 Oct 2025) EndedAt: 2025-10-13 02:55:41 -0400 (Mon, 13 Oct 2025) EllapsedTime: 98.2 seconds RetCode: 0 Status: OK PackageFile: rtracklayer_1.69.1.tgz PackageFileSize: 7.465 MiB