Package: rtracklayer Version: 1.69.1 Maintainer: Michael Lawrence MaintainerEmail: lawremi at gmail.com git_url: https://git.bioconductor.org/packages/rtracklayer git_branch: devel git_last_commit: 8268289 git_last_commit_date: 2025-09-29 08:29:33 -0400 (Mon, 29 Sep 2025)