Package: rsemmed Version: 1.21.0 Command: /home/biocbuild/bbs-3.23-bioc/R/bin/R CMD INSTALL rsemmed StartedAt: 2025-10-31 15:17:29 -0400 (Fri, 31 Oct 2025) EndedAt: 2025-10-31 15:17:46 -0400 (Fri, 31 Oct 2025) EllapsedTime: 16.8 seconds RetCode: 0 Status: OK